BEGIN:VCALENDAR
VERSION:2.0
PRODID:-//Abridged – PBS KVIE - ECPv6.15.20//NONSGML v1.0//EN
CALSCALE:GREGORIAN
METHOD:PUBLISH
X-ORIGINAL-URL:https://www.abridged.org
X-WR-CALDESC:Events for Abridged – PBS KVIE
REFRESH-INTERVAL;VALUE=DURATION:PT1H
X-Robots-Tag:noindex
X-PUBLISHED-TTL:PT1H
BEGIN:VTIMEZONE
TZID:America/Los_Angeles
BEGIN:DAYLIGHT
TZOFFSETFROM:-0800
TZOFFSETTO:-0700
TZNAME:PDT
DTSTART:20250309T100000
END:DAYLIGHT
BEGIN:STANDARD
TZOFFSETFROM:-0700
TZOFFSETTO:-0800
TZNAME:PST
DTSTART:20251102T090000
END:STANDARD
BEGIN:DAYLIGHT
TZOFFSETFROM:-0800
TZOFFSETTO:-0700
TZNAME:PDT
DTSTART:20260308T100000
END:DAYLIGHT
BEGIN:STANDARD
TZOFFSETFROM:-0700
TZOFFSETTO:-0800
TZNAME:PST
DTSTART:20261101T090000
END:STANDARD
BEGIN:DAYLIGHT
TZOFFSETFROM:-0800
TZOFFSETTO:-0700
TZNAME:PDT
DTSTART:20270314T100000
END:DAYLIGHT
BEGIN:STANDARD
TZOFFSETFROM:-0700
TZOFFSETTO:-0800
TZNAME:PST
DTSTART:20271107T090000
END:STANDARD
END:VTIMEZONE
BEGIN:VEVENT
DTSTART;VALUE=DATE:20260502
DTEND;VALUE=DATE:20260504
DTSTAMP:20260423T092257
CREATED:20260420T153340Z
LAST-MODIFIED:20260422T231124Z
UID:10000298-1777680000-1777852799@www.abridged.org
SUMMARY:Art Studio Trek 2026
DESCRIPTION:The 19th Annual Art Studio Trek is a free\, self-guided tour of local artist studios in the Roseville and Rocklin area. Meet artists\, see unique artwork\, and enjoy the tradition of chocolate at every stop. See website for map of studios. \nMore details here.
URL:https://www.abridged.org/event/art-studio-trek-2026/
LOCATION:Various locations
CATEGORIES:Art,Free
END:VEVENT
BEGIN:VEVENT
DTSTART;TZID=America/Los_Angeles:20260502T120000
DTEND;TZID=America/Los_Angeles:20260502T160000
DTSTAMP:20260423T092257
CREATED:20260423T021350Z
LAST-MODIFIED:20260423T021350Z
UID:10000299-1777723200-1777737600@www.abridged.org
SUMMARY:Print & Zine Fest 2026
DESCRIPTION:Third Space Art Collective presents its 2nd annual Print & Zine Fest with vendors\, and zine and printmaking activities. The event is free and open to the public. \nMore details here.
URL:https://www.abridged.org/event/print-zine-fest-2026/
LOCATION:Third Space Art Collective\, 17 Arboretum Drive Unit C\, Davis\, CA\, United States
CATEGORIES:Art,Free,Retail
GEO:38.539745;-121.741198
X-APPLE-STRUCTURED-LOCATION;VALUE=URI;X-ADDRESS=Third Space Art Collective 17 Arboretum Drive Unit C Davis CA United States;X-APPLE-RADIUS=500;X-TITLE=17 Arboretum Drive Unit C:geo:-121.741198,38.539745
END:VEVENT
BEGIN:VEVENT
DTSTART;TZID=America/Los_Angeles:20260502T180000
DTEND;TZID=America/Los_Angeles:20260502T210000
DTSTAMP:20260423T092257
CREATED:20260423T021419Z
LAST-MODIFIED:20260423T024028Z
UID:10000007-1777744800-1777755600@www.abridged.org
SUMMARY:Between Worlds Opening Reception — Timeless Thrills
DESCRIPTION:NIGHTED brings a photography exhibition to Timeless Thrills. Show runs until June 13. \nMore details here.
URL:https://www.abridged.org/event/between-worlds-opening-reception-timeless-thrills/
LOCATION:Timeless Thrills\, 3714 J St.\, Sacramento\, CA\, 95816\, United States
CATEGORIES:Art
END:VEVENT
BEGIN:VEVENT
DTSTART;TZID=America/Los_Angeles:20260503T130000
DTEND;TZID=America/Los_Angeles:20260503T180000
DTSTAMP:20260423T092257
CREATED:20260423T021351Z
LAST-MODIFIED:20260423T021351Z
UID:10000006-1777813200-1777831200@www.abridged.org
SUMMARY:Bloodstone Bookfair
DESCRIPTION:Bloodstone Bookshop is hosting a pop-up bookfair at New Helvetia Brewery in Sacramento. \nMore details here.
URL:https://www.abridged.org/event/bloodstone-bookfair/
LOCATION:New Helvetia Brewery\, 1730 Broadway\, Sacramento\, California
CATEGORIES:Art,Food & Drink,Retail
END:VEVENT
BEGIN:VEVENT
DTSTART;TZID=America/Los_Angeles:20260508T190000
DTEND;TZID=America/Los_Angeles:20260508T220000
DTSTAMP:20260423T092257
CREATED:20260423T021441Z
LAST-MODIFIED:20260423T025043Z
UID:10000311-1778266800-1778277600@www.abridged.org
SUMMARY:Flower Fist Comedy Show
DESCRIPTION:Comedy\, local art and free hot dog with your ticket. BYOB. BBQ at 7 p.m.\, show at 8. \nMore details here.
URL:https://www.abridged.org/event/flower-fist-comedy-show/
LOCATION:Flower Fist Art Market\, 1819 E St\, Sacramento\, CA\, United States
CATEGORIES:Art,Theater
GEO:38.582876;-121.479975
X-APPLE-STRUCTURED-LOCATION;VALUE=URI;X-ADDRESS=Flower Fist Art Market 1819 E St Sacramento CA United States;X-APPLE-RADIUS=500;X-TITLE=1819 E St:geo:-121.479975,38.582876
END:VEVENT
BEGIN:VEVENT
DTSTART;TZID=America/Los_Angeles:20260509T170000
DTEND;TZID=America/Los_Angeles:20260509T200000
DTSTAMP:20260423T092257
CREATED:20260421T164812Z
LAST-MODIFIED:20260422T053453Z
UID:10000335-1778346000-1778356800@www.abridged.org
SUMMARY:SMASH! Opening Reception - A Piñata Exhibition
DESCRIPTION:Opening reception for SMASH! at PRISM Art Space will feature piñata-based artworks by Sacramento and Bay Area artists. Guests will be invited to smash a selection of piñatas. \nMore details here.
URL:https://www.abridged.org/event/smash-opening-reception-a-pinata-exhibition/
LOCATION:Prism Art Space\, 2120 K Street Sacramento\, Sacramento\, CA\, United States
CATEGORIES:Art
END:VEVENT
BEGIN:VEVENT
DTSTART;TZID=America/Los_Angeles:20260514T180000
DTEND;TZID=America/Los_Angeles:20260514T210000
DTSTAMP:20260423T092257
CREATED:20260423T021349Z
LAST-MODIFIED:20260423T025759Z
UID:10000326-1778781600-1778792400@www.abridged.org
SUMMARY:ArtMix: Prom – Sneaker Ball
DESCRIPTION:Crocker Art Museum’s unique monthly Thursday night event brings back “prom.” The returning event is asking you to bring your formal wear with your favorite sneakers. Enjoy music\, dancing\, artmaking\, drinks and full museum access during the event. Free for members\, $25 for nonmembers. \nMore details here.
URL:https://www.abridged.org/event/artmix-prom-sneaker-ball/
LOCATION:Crocker Art Museum\, 216 O St\, Sacramento\, CA\, United States
CATEGORIES:Art,Food & Drink,Music
GEO:38.577468;-121.506345
X-APPLE-STRUCTURED-LOCATION;VALUE=URI;X-ADDRESS=Crocker Art Museum 216 O St Sacramento CA United States;X-APPLE-RADIUS=500;X-TITLE=216 O St:geo:-121.506345,38.577468
END:VEVENT
BEGIN:VEVENT
DTSTART;TZID=America/Los_Angeles:20260517T100000
DTEND;TZID=America/Los_Angeles:20260517T160000
DTSTAMP:20260423T092257
CREATED:20260423T021346Z
LAST-MODIFIED:20260423T030436Z
UID:10000322-1779012000-1779033600@www.abridged.org
SUMMARY:Curtis Fest Artisan Fair
DESCRIPTION:Curtis Fest is a free\, annual outdoor artisan fair in William Curtis Park featuring regional artists\, handmade goods and family-friendly activities. \nMore details here.
URL:https://www.abridged.org/event/curtis-fest-artisan-fair/
LOCATION:William Curtis Park\, 3349 W Curtis Dr\, Sacramento\, CA\, United States
CATEGORIES:Art,Free,Outdoor,Retail
GEO:38.544205;-121.480238
X-APPLE-STRUCTURED-LOCATION;VALUE=URI;X-ADDRESS=William Curtis Park 3349 W Curtis Dr Sacramento CA United States;X-APPLE-RADIUS=500;X-TITLE=3349 W Curtis Dr:geo:-121.480238,38.544205
END:VEVENT
END:VCALENDAR