BEGIN:VCALENDAR
VERSION:2.0
PRODID:-//Abridged – PBS KVIE - ECPv6.15.20//NONSGML v1.0//EN
CALSCALE:GREGORIAN
METHOD:PUBLISH
X-ORIGINAL-URL:https://www.abridged.org
X-WR-CALDESC:Events for Abridged – PBS KVIE
REFRESH-INTERVAL;VALUE=DURATION:PT1H
X-Robots-Tag:noindex
X-PUBLISHED-TTL:PT1H
BEGIN:VTIMEZONE
TZID:America/Los_Angeles
BEGIN:DAYLIGHT
TZOFFSETFROM:-0800
TZOFFSETTO:-0700
TZNAME:PDT
DTSTART:20250309T100000
END:DAYLIGHT
BEGIN:STANDARD
TZOFFSETFROM:-0700
TZOFFSETTO:-0800
TZNAME:PST
DTSTART:20251102T090000
END:STANDARD
BEGIN:DAYLIGHT
TZOFFSETFROM:-0800
TZOFFSETTO:-0700
TZNAME:PDT
DTSTART:20260308T100000
END:DAYLIGHT
BEGIN:STANDARD
TZOFFSETFROM:-0700
TZOFFSETTO:-0800
TZNAME:PST
DTSTART:20261101T090000
END:STANDARD
BEGIN:DAYLIGHT
TZOFFSETFROM:-0800
TZOFFSETTO:-0700
TZNAME:PDT
DTSTART:20270314T100000
END:DAYLIGHT
BEGIN:STANDARD
TZOFFSETFROM:-0700
TZOFFSETTO:-0800
TZNAME:PST
DTSTART:20271107T090000
END:STANDARD
END:VTIMEZONE
BEGIN:VEVENT
DTSTART;TZID=America/Los_Angeles:20260426T170000
DTEND;TZID=America/Los_Angeles:20260426T213000
DTSTAMP:20260424T090056
CREATED:20260423T021417Z
LAST-MODIFIED:20260423T021417Z
UID:10000292-1777222800-1777239000@www.abridged.org
SUMMARY:ANDRUSS – LowBrau Block Party
DESCRIPTION:Mexico-based electronic dance music producer ANDRUSS headlines the first LowBrau block party of the year. 21+. RSVP is limited. \n  \nMore details here.
URL:https://www.abridged.org/event/andruss-lowbrau-block-party-2/
LOCATION:LowBrau\, 1050 20th St\, Sacramento\, CA\, United States
CATEGORIES:Music,Outdoor
GEO:38.495722;-121.492403
X-APPLE-STRUCTURED-LOCATION;VALUE=URI;X-ADDRESS=LowBrau 1050 20th St Sacramento CA United States;X-APPLE-RADIUS=500;X-TITLE=1050 20th St:geo:-121.492403,38.495722
END:VEVENT
BEGIN:VEVENT
DTSTART;TZID=America/Los_Angeles:20260426T170000
DTEND;TZID=America/Los_Angeles:20260426T220000
DTSTAMP:20260424T090056
CREATED:20260423T021417Z
LAST-MODIFIED:20260423T023558Z
UID:10000003-1777222800-1777240800@www.abridged.org
SUMMARY:Jason Dea West — The Pearl
DESCRIPTION:Alternative folk\, country western artist Jason Dea West comes to The Pearl in Locke. There’s a $20 donation for the band and it’s BYOB. The Pearl is an intimate music venue in a former Chinese boarding house and pool hall built in 1916. \nMore details here.
URL:https://www.abridged.org/event/jason-dea-west-the-pearl/
LOCATION:The Pearl\, 13944 Main St\, Walnut Grove\, CA\, 95690\, United States
CATEGORIES:Music
END:VEVENT
BEGIN:VEVENT
DTSTART;TZID=America/Los_Angeles:20260501T200000
DTEND;TZID=America/Los_Angeles:20260501T223000
DTSTAMP:20260424T090056
CREATED:20260420T153336Z
LAST-MODIFIED:20260422T054808Z
UID:10000295-1777665600-1777674600@www.abridged.org
SUMMARY:Beatles Cover Show: Volume II
DESCRIPTION:Beatles Cover Show Volume II at The Press Club features Tashow\, Problem Plays\, and The Bad Barnacles\, performing across The Beatles’ eras. Doors open at 7 p.m. \nMore details here.
URL:https://www.abridged.org/event/beatles-cover-show-volume-ii/
LOCATION:The Press Club\, 1119 21st Street\, Sacramento\, CA\, United States
CATEGORIES:Music
GEO:38.569877;-121.482481
X-APPLE-STRUCTURED-LOCATION;VALUE=URI;X-ADDRESS=The Press Club 1119 21st Street Sacramento CA United States;X-APPLE-RADIUS=500;X-TITLE=1119 21st Street:geo:-121.482481,38.569877
END:VEVENT
BEGIN:VEVENT
DTSTART;TZID=America/Los_Angeles:20260502T130000
DTEND;TZID=America/Los_Angeles:20260502T220000
DTSTAMP:20260424T090056
CREATED:20260423T021418Z
LAST-MODIFIED:20260423T023940Z
UID:10000009-1777726800-1777759200@www.abridged.org
SUMMARY:Pink Bandit Fest — MusicLandria
DESCRIPTION:The third annual Pink Bandit fest comes to MusicLandria. A mix of indie rock\, electronic\, pop and hip hop from Sacramento\, the Bay Area\, Portland and Alabama. \nMore details here. \n 
URL:https://www.abridged.org/event/pink-bandit-fest-musiclandria/
LOCATION:MusicLandria\, 808 O St\, Sacramento\, CA\, 95814\, United States
CATEGORIES:Music
END:VEVENT
BEGIN:VEVENT
DTSTART;TZID=America/Los_Angeles:20260502T193000
DTEND;TZID=America/Los_Angeles:20260502T213000
DTSTAMP:20260424T090056
CREATED:20260423T021420Z
LAST-MODIFIED:20260423T024310Z
UID:10000304-1777750200-1777757400@www.abridged.org
SUMMARY:Lucía at the Mondavi Center
DESCRIPTION:Sarah Vaughan International Jazz Vocal Competition winner Lucía performs live at the Mondavi Center for the Performing Arts\, blending jazz with Latin folk traditions. Ticket prices vary. \nMore details here.
URL:https://www.abridged.org/event/lucia-at-the-mondavi-center/
LOCATION:Mondavi Center for the Performing Arts\, 523 Mrak Hall Dr\, Davis\, CA\, United States
CATEGORIES:Music
GEO:38.540767;-121.747162
X-APPLE-STRUCTURED-LOCATION;VALUE=URI;X-ADDRESS=Mondavi Center for the Performing Arts 523 Mrak Hall Dr Davis CA United States;X-APPLE-RADIUS=500;X-TITLE=523 Mrak Hall Dr:geo:-121.747162,38.540767
END:VEVENT
BEGIN:VEVENT
DTSTART;TZID=America/Los_Angeles:20260502T210000
DTEND;TZID=America/Los_Angeles:20260503T000000
DTSTAMP:20260424T090056
CREATED:20260423T021420Z
LAST-MODIFIED:20260423T024347Z
UID:10000302-1777755600-1777766400@www.abridged.org
SUMMARY:Lipstick – Live at Old Ironsides
DESCRIPTION:The long running indie sleaze/dance party\, Lipstick\, celebrates its “final” night at Old Ironsides. Show starts at 9 p.m. \nMore details here.
URL:https://www.abridged.org/event/lipstick-live-at-old-ironsides/
LOCATION:Old Ironsides\, 1901 10th St\, Sacramento\, CA\, United States
CATEGORIES:Music
GEO:38.570398;-121.497759
X-APPLE-STRUCTURED-LOCATION;VALUE=URI;X-ADDRESS=Old Ironsides 1901 10th St Sacramento CA United States;X-APPLE-RADIUS=500;X-TITLE=1901 10th St:geo:-121.497759,38.570398
END:VEVENT
BEGIN:VEVENT
DTSTART;TZID=America/Los_Angeles:20260503T190000
DTEND;TZID=America/Los_Angeles:20260503T210000
DTSTAMP:20260424T090056
CREATED:20260423T021421Z
LAST-MODIFIED:20260423T021421Z
UID:10000306-1777834800-1777842000@www.abridged.org
SUMMARY:J Boog Live at Quarry Park Amphitheater
DESCRIPTION:Hawaiian reggae artist J Boog comes to Quarry Park Amphitheater in Rocklin. \nMore details here.
URL:https://www.abridged.org/event/j-boog-live-at-quarry-park-amphitheater/
LOCATION:Quarry Park Amphitheater\, 4000 Rocklin Rd\, Rocklin\, CA\, United States
CATEGORIES:Music
GEO:38.789698;-121.233567
X-APPLE-STRUCTURED-LOCATION;VALUE=URI;X-ADDRESS=Quarry Park Amphitheater 4000 Rocklin Rd Rocklin CA United States;X-APPLE-RADIUS=500;X-TITLE=4000 Rocklin Rd:geo:-121.233567,38.789698
END:VEVENT
BEGIN:VEVENT
DTSTART;TZID=America/Los_Angeles:20260507T200000
DTEND;TZID=America/Los_Angeles:20260507T223000
DTSTAMP:20260424T090056
CREATED:20260423T021440Z
LAST-MODIFIED:20260423T024917Z
UID:10000309-1778184000-1778193000@www.abridged.org
SUMMARY:Blu & Exile Live at The Starlet Room
DESCRIPTION:Underground favorite hip-hop duo Blu & Exile bring the West South Tour to Sacramento with support from Chuuwee\, Sirplus\, and DJ Epik. Doors open at 7 p.m. for all ages. \nMore details here.
URL:https://www.abridged.org/event/blu-exile-live-at-the-starlet-room/
LOCATION:The Starlet Room at Harlow’s\, 2708 J St\, Sacramento\, CA\, United States
CATEGORIES:Music
GEO:38.5741;-121.470492
X-APPLE-STRUCTURED-LOCATION;VALUE=URI;X-ADDRESS=The Starlet Room at Harlow’s 2708 J St Sacramento CA United States;X-APPLE-RADIUS=500;X-TITLE=2708 J St:geo:-121.470492,38.5741
END:VEVENT
BEGIN:VEVENT
DTSTART;TZID=America/Los_Angeles:20260507T200000
DTEND;TZID=America/Los_Angeles:20260507T223000
DTSTAMP:20260424T090056
CREATED:20260423T021441Z
LAST-MODIFIED:20260423T024948Z
UID:10000310-1778184000-1778193000@www.abridged.org
SUMMARY:Cole Berliner\, Pregnant and Dogpatch at The Press Club
DESCRIPTION:The mix of indie rock and pop acts perform live at The Press Club. Doors open at 7 p.m. \nMore details here.
URL:https://www.abridged.org/event/cole-berliner-pregnant-dog-patch/
LOCATION:The Press Club\, 1119 21st Street\, Sacramento\, CA\, United States
CATEGORIES:Music
GEO:38.569877;-121.482481
X-APPLE-STRUCTURED-LOCATION;VALUE=URI;X-ADDRESS=The Press Club 1119 21st Street Sacramento CA United States;X-APPLE-RADIUS=500;X-TITLE=1119 21st Street:geo:-121.482481,38.569877
END:VEVENT
BEGIN:VEVENT
DTSTART;TZID=America/Los_Angeles:20260508T130000
DTEND;TZID=America/Los_Angeles:20260509T230000
DTSTAMP:20260424T090056
CREATED:20260421T164813Z
LAST-MODIFIED:20260422T053841Z
UID:10000336-1778245200-1778367600@www.abridged.org
SUMMARY:Country in the Park 2026
DESCRIPTION:Country In The Park returns to Cal Expo in Sacramento from May 8 to 9. The two days of live country music will feature Jon Pardi\, Miranda Lambert\, Chris Young\, Turnpike Troubadours and more. General admission tickets are $83\, including fees. \nMore details here.
URL:https://www.abridged.org/event/country-in-the-park-2026/
LOCATION:Cal Expo\, 1600 Exposition Blvd\, Sacramento\, CA\, 95815\, United States
CATEGORIES:Music
GEO:38.380456;-121.555406
X-APPLE-STRUCTURED-LOCATION;VALUE=URI;X-ADDRESS=Cal Expo 1600 Exposition Blvd Sacramento CA 95815 United States;X-APPLE-RADIUS=500;X-TITLE=1600 Exposition Blvd:geo:-121.555406,38.380456
END:VEVENT
BEGIN:VEVENT
DTSTART;TZID=America/Los_Angeles:20260509T210000
DTEND;TZID=America/Los_Angeles:20260510T000000
DTSTAMP:20260424T090056
CREATED:20260423T021310Z
LAST-MODIFIED:20260423T025440Z
UID:10000315-1778360400-1778371200@www.abridged.org
SUMMARY:Gothicumbia at Harlow's
DESCRIPTION:Gothicumbia returns to Harlow’s for a 21+ night of goth\, cumbia\, post-punk\, and dark Latin dance music. Doors at 9 p.m. \nMore details here.
URL:https://www.abridged.org/event/gothicumbia-at-harlows/
LOCATION:Harlow’s\, 2708 J St\, Sacramento\, CA\, United States
CATEGORIES:Music
GEO:38.5741;-121.470492
X-APPLE-STRUCTURED-LOCATION;VALUE=URI;X-ADDRESS=Harlow’s 2708 J St Sacramento CA United States;X-APPLE-RADIUS=500;X-TITLE=2708 J St:geo:-121.470492,38.5741
END:VEVENT
BEGIN:VEVENT
DTSTART;TZID=America/Los_Angeles:20260514T180000
DTEND;TZID=America/Los_Angeles:20260514T210000
DTSTAMP:20260424T090056
CREATED:20260423T021349Z
LAST-MODIFIED:20260423T025759Z
UID:10000326-1778781600-1778792400@www.abridged.org
SUMMARY:ArtMix: Prom – Sneaker Ball
DESCRIPTION:Crocker Art Museum’s unique monthly Thursday night event brings back “prom.” The returning event is asking you to bring your formal wear with your favorite sneakers. Enjoy music\, dancing\, artmaking\, drinks and full museum access during the event. Free for members\, $25 for nonmembers. \nMore details here.
URL:https://www.abridged.org/event/artmix-prom-sneaker-ball/
LOCATION:Crocker Art Museum\, 216 O St\, Sacramento\, CA\, United States
CATEGORIES:Art,Food & Drink,Music
GEO:38.577468;-121.506345
X-APPLE-STRUCTURED-LOCATION;VALUE=URI;X-ADDRESS=Crocker Art Museum 216 O St Sacramento CA United States;X-APPLE-RADIUS=500;X-TITLE=216 O St:geo:-121.506345,38.577468
END:VEVENT
BEGIN:VEVENT
DTSTART;TZID=America/Los_Angeles:20260514T200000
DTEND;TZID=America/Los_Angeles:20260514T220000
DTSTAMP:20260424T090056
CREATED:20260423T021348Z
LAST-MODIFIED:20260423T025915Z
UID:10000320-1778788800-1778796000@www.abridged.org
SUMMARY:TOPS Live at Harlow's
DESCRIPTION:Indie rock\, dream pop outfit TOPS perform live at Harlow’s in Sacramento. Doors open at 7 p.m. \nMore details here.
URL:https://www.abridged.org/event/tops-live-at-harlows/
LOCATION:Harlow’s\, 2708 J St\, Sacramento\, CA\, United States
CATEGORIES:Music
GEO:38.5741;-121.470492
X-APPLE-STRUCTURED-LOCATION;VALUE=URI;X-ADDRESS=Harlow’s 2708 J St Sacramento CA United States;X-APPLE-RADIUS=500;X-TITLE=2708 J St:geo:-121.470492,38.5741
END:VEVENT
BEGIN:VEVENT
DTSTART;TZID=America/Los_Angeles:20260515T170000
DTEND;TZID=America/Los_Angeles:20260515T220000
DTSTAMP:20260424T090056
CREATED:20260423T021347Z
LAST-MODIFIED:20260423T021347Z
UID:10000321-1778864400-1778882400@www.abridged.org
SUMMARY:AAPI Night Market
DESCRIPTION:5th Annual AAPI Night Market in Downtown Sacramento with food\, local vendors\, and live performances. Kids 4 and under are free. \nMore details here.
URL:https://www.abridged.org/event/aapi-night-market/
LOCATION:Capitol Mall\, 300 Capitol Mall\, Sacramento\, CA\, United States
CATEGORIES:Food & Drink,Music,Outdoor,Retail
GEO:38.380456;-121.555406
X-APPLE-STRUCTURED-LOCATION;VALUE=URI;X-ADDRESS=Capitol Mall 300 Capitol Mall Sacramento CA United States;X-APPLE-RADIUS=500;X-TITLE=300 Capitol Mall:geo:-121.555406,38.380456
END:VEVENT
BEGIN:VEVENT
DTSTART;TZID=America/Los_Angeles:20260523T150000
DTEND;TZID=America/Los_Angeles:20260523T230000
DTSTAMP:20260424T090056
CREATED:20260420T153409Z
LAST-MODIFIED:20260423T021135Z
UID:10000333-1779548400-1779577200@www.abridged.org
SUMMARY:SAC Halloween Show: Occupations
DESCRIPTION:The Red Museum’s annual Sac Halloween Show\, not on Halloween. Tribute bands perform based on a united theme. This year\, it’s occupations. This all-ages event is $17.85 presale and $20 at the door. \nMore details here.
URL:https://www.abridged.org/event/sac-halloween-show-occupations/
LOCATION:The Red Museum\, 212 15th St\, Sacramento\, 95814\, United States
CATEGORIES:Music
END:VEVENT
END:VCALENDAR