BEGIN:VCALENDAR
VERSION:2.0
PRODID:-//Abridged – PBS KVIE - ECPv6.15.20//NONSGML v1.0//EN
CALSCALE:GREGORIAN
METHOD:PUBLISH
X-ORIGINAL-URL:https://www.abridged.org
X-WR-CALDESC:Events for Abridged – PBS KVIE
REFRESH-INTERVAL;VALUE=DURATION:PT1H
X-Robots-Tag:noindex
X-PUBLISHED-TTL:PT1H
BEGIN:VTIMEZONE
TZID:America/Los_Angeles
BEGIN:DAYLIGHT
TZOFFSETFROM:-0800
TZOFFSETTO:-0700
TZNAME:PDT
DTSTART:20250309T100000
END:DAYLIGHT
BEGIN:STANDARD
TZOFFSETFROM:-0700
TZOFFSETTO:-0800
TZNAME:PST
DTSTART:20251102T090000
END:STANDARD
BEGIN:DAYLIGHT
TZOFFSETFROM:-0800
TZOFFSETTO:-0700
TZNAME:PDT
DTSTART:20260308T100000
END:DAYLIGHT
BEGIN:STANDARD
TZOFFSETFROM:-0700
TZOFFSETTO:-0800
TZNAME:PST
DTSTART:20261101T090000
END:STANDARD
BEGIN:DAYLIGHT
TZOFFSETFROM:-0800
TZOFFSETTO:-0700
TZNAME:PDT
DTSTART:20270314T100000
END:DAYLIGHT
BEGIN:STANDARD
TZOFFSETFROM:-0700
TZOFFSETTO:-0800
TZNAME:PST
DTSTART:20271107T090000
END:STANDARD
END:VTIMEZONE
BEGIN:VEVENT
DTSTART;VALUE=DATE:20260424
DTEND;VALUE=DATE:20260504
DTSTAMP:20260425T042222
CREATED:20260423T021414Z
LAST-MODIFIED:20260423T021414Z
UID:10000300-1776988800-1777852799@www.abridged.org
SUMMARY:Sacramento Beer Week 2026 at Drake's
DESCRIPTION:Sacramento Beer Week returns to Drake’s Brewing with daily events\, live music\, special beer releases\, markets\, workshops\, and more from April 24–May 3. \nMore details here.
URL:https://www.abridged.org/event/sacramento-beer-week-2026-at-drakes/
LOCATION:Drake’s: The Barn\, 985 Riverfront St\, West Sacramento\, CA\, United States
CATEGORIES:Food & Drink,Music,Outdoor,Retail
GEO:38.53476;-121.514956
X-APPLE-STRUCTURED-LOCATION;VALUE=URI;X-ADDRESS=Drake’s: The Barn 985 Riverfront St West Sacramento CA United States;X-APPLE-RADIUS=500;X-TITLE=985 Riverfront St:geo:-121.514956,38.53476
END:VEVENT
BEGIN:VEVENT
DTSTART;TZID=America/Los_Angeles:20260502T090000
DTEND;TZID=America/Los_Angeles:20260502T150000
DTSTAMP:20260425T042222
CREATED:20260420T153345Z
LAST-MODIFIED:20260422T055723Z
UID:10000301-1777712400-1777734000@www.abridged.org
SUMMARY:Spring Open House – California Raptor Center
DESCRIPTION:We’re talking birds of prey\, not Jurassic Park! UC Davis California Raptor Center hosts its spring open house. Enjoy educational talks\, self-guided tours and meet live raptor demonstrations. \nMore details here.
URL:https://www.abridged.org/event/spring-open-house-california-raptor-center/
LOCATION:California Raptor Center\, 1340 Equine Lane\, Davis\, CA\, United States
CATEGORIES:Family-Friendly,Free,Outdoor
GEO:38.671749;-121.256897
X-APPLE-STRUCTURED-LOCATION;VALUE=URI;X-ADDRESS=California Raptor Center 1340 Equine Lane Davis CA United States;X-APPLE-RADIUS=500;X-TITLE=1340 Equine Lane:geo:-121.256897,38.671749
END:VEVENT
BEGIN:VEVENT
DTSTART;TZID=America/Los_Angeles:20260502T130000
DTEND;TZID=America/Los_Angeles:20260502T160000
DTSTAMP:20260425T042222
CREATED:20260423T021418Z
LAST-MODIFIED:20260423T021418Z
UID:10000296-1777726800-1777737600@www.abridged.org
SUMMARY:Cushing Crossing 2026
DESCRIPTION:The annual Cushing Crossing returns to Palisades Tahoe\, featuring the iconic pond skim where participants attempt to cross icy water in costumes. \nMore details here.
URL:https://www.abridged.org/event/cushing-crossing-2026/
LOCATION:Cushing Pond\, 249 Granite Chief Rd\, Squaw Valley\, CA\, United States
CATEGORIES:Family-Friendly,Free,Outdoor
GEO:39.323006;-120.176818
X-APPLE-STRUCTURED-LOCATION;VALUE=URI;X-ADDRESS=Cushing Pond 249 Granite Chief Rd Squaw Valley CA United States;X-APPLE-RADIUS=500;X-TITLE=249 Granite Chief Rd:geo:-120.176818,39.323006
END:VEVENT
END:VCALENDAR