BEGIN:VCALENDAR
VERSION:2.0
PRODID:-//Abridged – PBS KVIE - ECPv6.15.20//NONSGML v1.0//EN
CALSCALE:GREGORIAN
METHOD:PUBLISH
X-ORIGINAL-URL:https://www.abridged.org
X-WR-CALDESC:Events for Abridged – PBS KVIE
REFRESH-INTERVAL;VALUE=DURATION:PT1H
X-Robots-Tag:noindex
X-PUBLISHED-TTL:PT1H
BEGIN:VTIMEZONE
TZID:America/Los_Angeles
BEGIN:DAYLIGHT
TZOFFSETFROM:-0800
TZOFFSETTO:-0700
TZNAME:PDT
DTSTART:20250309T100000
END:DAYLIGHT
BEGIN:STANDARD
TZOFFSETFROM:-0700
TZOFFSETTO:-0800
TZNAME:PST
DTSTART:20251102T090000
END:STANDARD
BEGIN:DAYLIGHT
TZOFFSETFROM:-0800
TZOFFSETTO:-0700
TZNAME:PDT
DTSTART:20260308T100000
END:DAYLIGHT
BEGIN:STANDARD
TZOFFSETFROM:-0700
TZOFFSETTO:-0800
TZNAME:PST
DTSTART:20261101T090000
END:STANDARD
BEGIN:DAYLIGHT
TZOFFSETFROM:-0800
TZOFFSETTO:-0700
TZNAME:PDT
DTSTART:20270314T100000
END:DAYLIGHT
BEGIN:STANDARD
TZOFFSETFROM:-0700
TZOFFSETTO:-0800
TZNAME:PST
DTSTART:20271107T090000
END:STANDARD
END:VTIMEZONE
BEGIN:VEVENT
DTSTART;TZID=America/Los_Angeles:20260425T140000
DTEND;TZID=America/Los_Angeles:20260425T160000
DTSTAMP:20260423T091609
CREATED:20260423T021415Z
LAST-MODIFIED:20260423T022726Z
UID:10000282-1777125600-1777132800@www.abridged.org
SUMMARY:Super Saturday! - Yolo County Library
DESCRIPTION:Join Yolo County Library for Super Saturday\, an action-packed superhero training adventure with activities and crafts for all ages. Free event. \nMore details here.
URL:https://www.abridged.org/event/super-saturday-yolo-county-library/
LOCATION:Arthur F. Turner Community Library\, 1212 Merkley Avenue\, West Sacramento\, CA\, United States
CATEGORIES:Family-Friendly
GEO:38.591854;-121.537801
X-APPLE-STRUCTURED-LOCATION;VALUE=URI;X-ADDRESS=Arthur F. Turner Community Library 1212 Merkley Avenue West Sacramento CA United States;X-APPLE-RADIUS=500;X-TITLE=1212 Merkley Avenue:geo:-121.537801,38.591854
END:VEVENT
END:VCALENDAR