BEGIN:VCALENDAR
VERSION:2.0
PRODID:-//Abridged – PBS KVIE - ECPv6.15.20//NONSGML v1.0//EN
CALSCALE:GREGORIAN
METHOD:PUBLISH
X-ORIGINAL-URL:https://www.abridged.org
X-WR-CALDESC:Events for Abridged – PBS KVIE
REFRESH-INTERVAL;VALUE=DURATION:PT1H
X-Robots-Tag:noindex
X-PUBLISHED-TTL:PT1H
BEGIN:VTIMEZONE
TZID:America/Los_Angeles
BEGIN:DAYLIGHT
TZOFFSETFROM:-0800
TZOFFSETTO:-0700
TZNAME:PDT
DTSTART:20250309T100000
END:DAYLIGHT
BEGIN:STANDARD
TZOFFSETFROM:-0700
TZOFFSETTO:-0800
TZNAME:PST
DTSTART:20251102T090000
END:STANDARD
BEGIN:DAYLIGHT
TZOFFSETFROM:-0800
TZOFFSETTO:-0700
TZNAME:PDT
DTSTART:20260308T100000
END:DAYLIGHT
BEGIN:STANDARD
TZOFFSETFROM:-0700
TZOFFSETTO:-0800
TZNAME:PST
DTSTART:20261101T090000
END:STANDARD
BEGIN:DAYLIGHT
TZOFFSETFROM:-0800
TZOFFSETTO:-0700
TZNAME:PDT
DTSTART:20270314T100000
END:DAYLIGHT
BEGIN:STANDARD
TZOFFSETFROM:-0700
TZOFFSETTO:-0800
TZNAME:PST
DTSTART:20271107T090000
END:STANDARD
END:VTIMEZONE
BEGIN:VEVENT
DTSTART;TZID=America/Los_Angeles:20260425T140000
DTEND;TZID=America/Los_Angeles:20260425T180000
DTSTAMP:20260423T091624
CREATED:20260423T021416Z
LAST-MODIFIED:20260423T022833Z
UID:10000285-1777125600-1777140000@www.abridged.org
SUMMARY:Elk Grove Brewfest 2026
DESCRIPTION:Annual Elk Grove Brewfest at Elk Grove Regional Park. Enjoy craft beer\, cider\, wine\, live music and local food vendors. VIP entry begins at 2 p.m. and general admission from 3:00–6:00 p.m. 21+. VIP $66.99. General admission $46.99. Designated drivers $21.99. \nMore details here.
URL:https://www.abridged.org/event/elk-grove-brewfest-2026/
LOCATION:Elk Grove Regional Park\, 9950 Elk Grove-Florin Rd\, Elk Grove\, CA\, United States
CATEGORIES:Food & Drink,Music,Outdoor
GEO:38.400304;-121.371512
X-APPLE-STRUCTURED-LOCATION;VALUE=URI;X-ADDRESS=Elk Grove Regional Park 9950 Elk Grove-Florin Rd Elk Grove CA United States;X-APPLE-RADIUS=500;X-TITLE=9950 Elk Grove-Florin Rd:geo:-121.371512,38.400304
END:VEVENT
END:VCALENDAR