BEGIN:VCALENDAR
VERSION:2.0
PRODID:-//Abridged – PBS KVIE - ECPv6.15.20//NONSGML v1.0//EN
CALSCALE:GREGORIAN
METHOD:PUBLISH
X-ORIGINAL-URL:https://www.abridged.org
X-WR-CALDESC:Events for Abridged – PBS KVIE
REFRESH-INTERVAL;VALUE=DURATION:PT1H
X-Robots-Tag:noindex
X-PUBLISHED-TTL:PT1H
BEGIN:VTIMEZONE
TZID:America/Los_Angeles
BEGIN:DAYLIGHT
TZOFFSETFROM:-0800
TZOFFSETTO:-0700
TZNAME:PDT
DTSTART:20250309T100000
END:DAYLIGHT
BEGIN:STANDARD
TZOFFSETFROM:-0700
TZOFFSETTO:-0800
TZNAME:PST
DTSTART:20251102T090000
END:STANDARD
BEGIN:DAYLIGHT
TZOFFSETFROM:-0800
TZOFFSETTO:-0700
TZNAME:PDT
DTSTART:20260308T100000
END:DAYLIGHT
BEGIN:STANDARD
TZOFFSETFROM:-0700
TZOFFSETTO:-0800
TZNAME:PST
DTSTART:20261101T090000
END:STANDARD
BEGIN:DAYLIGHT
TZOFFSETFROM:-0800
TZOFFSETTO:-0700
TZNAME:PDT
DTSTART:20270314T100000
END:DAYLIGHT
BEGIN:STANDARD
TZOFFSETFROM:-0700
TZOFFSETTO:-0800
TZNAME:PST
DTSTART:20271107T090000
END:STANDARD
END:VTIMEZONE
BEGIN:VEVENT
DTSTART;TZID=America/Los_Angeles:20260426T090000
DTEND;TZID=America/Los_Angeles:20260426T130000
DTSTAMP:20260423T115303
CREATED:20260422T224726Z
LAST-MODIFIED:20260422T224726Z
UID:10000339-1777194000-1777208400@www.abridged.org
SUMMARY:Jibe Bike Swap
DESCRIPTION:From Cultural Capital by Chris Macias: \nSpring has sprung and not only is it the prime season for bike riding but cleaning out the garage as well. So\, if you’ve got a cruiser or BMX bike gathering cobwebs in the corner\, or you’re looking for a low-cost ride\, drop by the Jibe Bike Swap this weekend. Bikes for donating and/or selling can be dropped off Friday at the North Natomas Aquatic Complex\, and the bike swap itself goes Sunday. Proceeds benefit Joey’s Food Locker\, a food bank located at Natomas High School. \nMore details here. \nWant events like this sent directly to your email? Sign up for our weekly things to do newsletter here. \n 
URL:https://www.abridged.org/event/jibe-bike-swap/
LOCATION:North Natomas Aquatic Complex\, 2631 New Market Dr.\, Sacramento\, CA\, 95835\, United States
CATEGORIES:Family-Friendly,Featured,Outdoor,Retail
END:VEVENT
END:VCALENDAR