BEGIN:VCALENDAR
VERSION:2.0
PRODID:-//Abridged – PBS KVIE - ECPv6.15.20//NONSGML v1.0//EN
CALSCALE:GREGORIAN
METHOD:PUBLISH
X-WR-CALNAME:Abridged – PBS KVIE
X-ORIGINAL-URL:https://www.abridged.org
X-WR-CALDESC:Events for Abridged – PBS KVIE
REFRESH-INTERVAL;VALUE=DURATION:PT1H
X-Robots-Tag:noindex
X-PUBLISHED-TTL:PT1H
BEGIN:VTIMEZONE
TZID:America/Los_Angeles
BEGIN:DAYLIGHT
TZOFFSETFROM:-0800
TZOFFSETTO:-0700
TZNAME:PDT
DTSTART:20250309T100000
END:DAYLIGHT
BEGIN:STANDARD
TZOFFSETFROM:-0700
TZOFFSETTO:-0800
TZNAME:PST
DTSTART:20251102T090000
END:STANDARD
BEGIN:DAYLIGHT
TZOFFSETFROM:-0800
TZOFFSETTO:-0700
TZNAME:PDT
DTSTART:20260308T100000
END:DAYLIGHT
BEGIN:STANDARD
TZOFFSETFROM:-0700
TZOFFSETTO:-0800
TZNAME:PST
DTSTART:20261101T090000
END:STANDARD
BEGIN:DAYLIGHT
TZOFFSETFROM:-0800
TZOFFSETTO:-0700
TZNAME:PDT
DTSTART:20270314T100000
END:DAYLIGHT
BEGIN:STANDARD
TZOFFSETFROM:-0700
TZOFFSETTO:-0800
TZNAME:PST
DTSTART:20271107T090000
END:STANDARD
END:VTIMEZONE
BEGIN:VEVENT
DTSTART;VALUE=DATE:20260424
DTEND;VALUE=DATE:20260427
DTSTAMP:20260423T073702
CREATED:20260422T224617Z
LAST-MODIFIED:20260422T224617Z
UID:10000284-1776988800-1777247999@www.abridged.org
SUMMARY:Sacramento Book Crawl 2026
DESCRIPTION:From Cultural Capital by Chris Macias: \nNational Independent Bookstore Day is traditionally held on the last Saturday of April. This year\, the Sacramento area is leveling up these festivities for a full weekend of fun. Read the Region is a bookstore crawl that includes more than a dozen mom-and-pop shops\, all the way from Elk Grove\, Granite Bay and Woodland\, to the heart of Sacramento and beyond. \nLook for opportunities to win prizes and special events hosted at some shops. These include a spring carnival on Sunday with storytelling and face painting at The Pleasant Pheasant Bookstore in Woodland. \nMore details here. \nWant events like this sent directly to your email? Sign up for our weekly things to do newsletter here. \n  \n 
URL:https://www.abridged.org/event/sacramento-book-crawl-2026/
LOCATION:Sacramento\, CA
CATEGORIES:Featured,Retail
END:VEVENT
END:VCALENDAR