BEGIN:VCALENDAR
VERSION:2.0
PRODID:-//Abridged – PBS KVIE - ECPv6.15.20//NONSGML v1.0//EN
CALSCALE:GREGORIAN
METHOD:PUBLISH
X-WR-CALNAME:Abridged – PBS KVIE
X-ORIGINAL-URL:https://www.abridged.org
X-WR-CALDESC:Events for Abridged – PBS KVIE
REFRESH-INTERVAL;VALUE=DURATION:PT1H
X-Robots-Tag:noindex
X-PUBLISHED-TTL:PT1H
BEGIN:VTIMEZONE
TZID:America/Los_Angeles
BEGIN:DAYLIGHT
TZOFFSETFROM:-0800
TZOFFSETTO:-0700
TZNAME:PDT
DTSTART:20250309T100000
END:DAYLIGHT
BEGIN:STANDARD
TZOFFSETFROM:-0700
TZOFFSETTO:-0800
TZNAME:PST
DTSTART:20251102T090000
END:STANDARD
BEGIN:DAYLIGHT
TZOFFSETFROM:-0800
TZOFFSETTO:-0700
TZNAME:PDT
DTSTART:20260308T100000
END:DAYLIGHT
BEGIN:STANDARD
TZOFFSETFROM:-0700
TZOFFSETTO:-0800
TZNAME:PST
DTSTART:20261101T090000
END:STANDARD
BEGIN:DAYLIGHT
TZOFFSETFROM:-0800
TZOFFSETTO:-0700
TZNAME:PDT
DTSTART:20270314T100000
END:DAYLIGHT
BEGIN:STANDARD
TZOFFSETFROM:-0700
TZOFFSETTO:-0800
TZNAME:PST
DTSTART:20271107T090000
END:STANDARD
END:VTIMEZONE
BEGIN:VEVENT
DTSTART;TZID=America/Los_Angeles:20260425T183000
DTEND;TZID=America/Los_Angeles:20260425T203000
DTSTAMP:20260423T090303
CREATED:20260423T021416Z
LAST-MODIFIED:20260423T022939Z
UID:10000287-1777141800-1777149000@www.abridged.org
SUMMARY:Poems in the Garden
DESCRIPTION:Poems and music in The Garden Room at Signa Rare Plants. Readings begin at 6:30 p.m.\, with a DJ set by Will Evans Jr. Free to attend with optional donations. \nMore details here.
URL:https://www.abridged.org/event/poems-in-the-garden/
LOCATION:Southside Park\, 2115 6th St\, Sacramento\, CA\, United States
CATEGORIES:Art,Free,Music
GEO:38.557414;-121.340972
X-APPLE-STRUCTURED-LOCATION;VALUE=URI;X-ADDRESS=Southside Park 2115 6th St Sacramento CA United States;X-APPLE-RADIUS=500;X-TITLE=2115 6th St:geo:-121.340972,38.557414
END:VEVENT
END:VCALENDAR